BEGIN:VCALENDAR
VERSION:2.0
PRODID:-//EMKL - ECPv6.8.2.1//NONSGML v1.0//EN
CALSCALE:GREGORIAN
METHOD:PUBLISH
X-WR-CALNAME:EMKL
X-ORIGINAL-URL:https://www.molkky.ee
X-WR-CALDESC:Events for EMKL
REFRESH-INTERVAL;VALUE=DURATION:PT1H
X-Robots-Tag:noindex
X-PUBLISHED-TTL:PT1H
BEGIN:VTIMEZONE
TZID:Europe/Tallinn
BEGIN:DAYLIGHT
TZOFFSETFROM:+0200
TZOFFSETTO:+0300
TZNAME:EEST
DTSTART:20240331T010000
END:DAYLIGHT
BEGIN:STANDARD
TZOFFSETFROM:+0300
TZOFFSETTO:+0200
TZNAME:EET
DTSTART:20241027T010000
END:STANDARD
END:VTIMEZONE
BEGIN:VEVENT
DTSTART;VALUE=DATE:20240727
DTEND;VALUE=DATE:20240728
DTSTAMP:20260423T083331
CREATED:20240221T154352Z
LAST-MODIFIED:20241211T121919Z
UID:6600-1722038400-1722124799@www.molkky.ee
SUMMARY:ASA spa Hotell/Saaremaa Mölkky Liiga 2024 4 etapp/ Saare maakonna lahtised meistrivõistlused 27.07.2024.
DESCRIPTION:ASA spa Hotell/Saaremaa Mölkky Liiga 2024 4 etapp/ Saare maakonna lahtised meistrivõistlused \nKaubi küla\, Saaremaa vald\, laius 58°26`N\, pikkus 22°32`E\nDuppel ehk paarismäng\n\nRegistreerimine kuni 25.juuli kell 20:00 ni sk kaarma FB messenger või tarvopihlas@gmail.com\nAlgus kell 10:30\nKohaloleku kinnitamine kuni 10:10\, loosimine 10:15\n\nosavõtutasu 10 eurot\, 16 ja nooremad tasuta\n\nSaaremaa Mölkky Liiga_2024 juhend_Est\nSaaremaa Mölkky Liiga_2024 juhend_Fin (1)(1)
URL:https://www.molkky.ee/event/saaremaa-liiga-iv-etapp-paarismang-27-07-2024/
CATEGORIES:Turniirid
END:VEVENT
END:VCALENDAR