BEGIN:VCALENDAR
VERSION:2.0
PRODID:-//EMKL - ECPv6.8.2.1//NONSGML v1.0//EN
CALSCALE:GREGORIAN
METHOD:PUBLISH
X-ORIGINAL-URL:https://www.molkky.ee
X-WR-CALDESC:Events for EMKL
REFRESH-INTERVAL;VALUE=DURATION:PT1H
X-Robots-Tag:noindex
X-PUBLISHED-TTL:PT1H
BEGIN:VTIMEZONE
TZID:Europe/Tallinn
BEGIN:DAYLIGHT
TZOFFSETFROM:+0200
TZOFFSETTO:+0300
TZNAME:EEST
DTSTART:20240331T010000
END:DAYLIGHT
BEGIN:STANDARD
TZOFFSETFROM:+0300
TZOFFSETTO:+0200
TZNAME:EET
DTSTART:20241027T010000
END:STANDARD
END:VTIMEZONE
BEGIN:VEVENT
DTSTART;TZID=Europe/Tallinn:20240526T090000
DTEND;TZID=Europe/Tallinn:20240527T170000
DTSTAMP:20260423T102346
CREATED:20240115T111928Z
LAST-MODIFIED:20241211T121919Z
UID:6538-1716714000-1716829200@www.molkky.ee
SUMMARY:Suur-Britannia lahtised meistrivõistlused 2023
DESCRIPTION:26.05. Paariamäng \n27.05. Üksikmäng \nhttps://www.molkky.world/associations/63b53cce0c267a2e5959a93f
URL:https://www.molkky.ee/event/https-www-molkky-world-associations-63b53cce0c267a2e5959a93f/
CATEGORIES:Turniirid
END:VEVENT
END:VCALENDAR