BEGIN:VCALENDAR
VERSION:2.0
PRODID:-//EMKL - ECPv6.8.2.1//NONSGML v1.0//EN
CALSCALE:GREGORIAN
METHOD:PUBLISH
X-ORIGINAL-URL:https://www.molkky.ee
X-WR-CALDESC:Events for EMKL
REFRESH-INTERVAL;VALUE=DURATION:PT1H
X-Robots-Tag:noindex
X-PUBLISHED-TTL:PT1H
BEGIN:VTIMEZONE
TZID:Europe/Tallinn
BEGIN:DAYLIGHT
TZOFFSETFROM:+0200
TZOFFSETTO:+0300
TZNAME:EEST
DTSTART:20240331T010000
END:DAYLIGHT
BEGIN:STANDARD
TZOFFSETFROM:+0300
TZOFFSETTO:+0200
TZNAME:EET
DTSTART:20241027T010000
END:STANDARD
END:VTIMEZONE
BEGIN:VEVENT
DTSTART;VALUE=DATE:20240519
DTEND;VALUE=DATE:20240520
DTSTAMP:20260423T122005
CREATED:20240221T153549Z
LAST-MODIFIED:20241211T121919Z
UID:6591-1716076800-1716163199@www.molkky.ee
SUMMARY:Eesti võistkondlik karikas 19.05.2024.
DESCRIPTION:3. Eesti võistkondlik karikas ( max 8 võistkonda )\n\nKaubi küla\, Saaremaa vald\, laius 58°26`N\, pikkus 22°32`E\nVõistkonnas 3 meest ja 1 naine \nRegistreerimine kuni 16.mai kell 20:00 ni sk kaarma FB messenger või tarvopihlas@gmail.com\nAlgus kell 10:00\nKohaloleku kinnitamine kuni 9:40\, loosimine 9:45\n\nosavõtutasu 40 eurot võistkond\n\nVõistkondlik Karikas_24 juhend
URL:https://www.molkky.ee/event/eesti-voistkondlik-karikas-19-05-2024/
CATEGORIES:Turniirid
END:VEVENT
END:VCALENDAR