BEGIN:VCALENDAR
VERSION:2.0
PRODID:-//EMKL - ECPv6.8.2.1//NONSGML v1.0//EN
CALSCALE:GREGORIAN
METHOD:PUBLISH
X-ORIGINAL-URL:https://www.molkky.ee
X-WR-CALDESC:Events for EMKL
REFRESH-INTERVAL;VALUE=DURATION:PT1H
X-Robots-Tag:noindex
X-PUBLISHED-TTL:PT1H
BEGIN:VTIMEZONE
TZID:Europe/Tallinn
BEGIN:DAYLIGHT
TZOFFSETFROM:+0200
TZOFFSETTO:+0300
TZNAME:EEST
DTSTART:20240331T010000
END:DAYLIGHT
BEGIN:STANDARD
TZOFFSETFROM:+0300
TZOFFSETTO:+0200
TZNAME:EET
DTSTART:20241027T010000
END:STANDARD
END:VTIMEZONE
BEGIN:VEVENT
DTSTART;VALUE=DATE:20240202
DTEND;VALUE=DATE:20240203
DTSTAMP:20260423T184711
CREATED:20240115T104714Z
LAST-MODIFIED:20241211T121919Z
UID:6528-1706832000-1706918399@www.molkky.ee
SUMMARY:U.S. WINTER CHAMPIONSHIP 2.2.2024
DESCRIPTION:Whiteside Park\, ELY\, MM \nKorraldaja:  U.S. Mölkky Association ja Molkky USA \n  \nhttps://www.molkky.world/associations/5a3edbdb584f907ec00619f1 \n 
URL:https://www.molkky.ee/event/https-www-molkky-world-associations-5a3edbdb584f907ec00619f1/
CATEGORIES:Turniirid
END:VEVENT
END:VCALENDAR