BEGIN:VCALENDAR
VERSION:2.0
PRODID:-//EMKL - ECPv6.8.2.1//NONSGML v1.0//EN
CALSCALE:GREGORIAN
METHOD:PUBLISH
X-WR-CALNAME:EMKL
X-ORIGINAL-URL:https://www.molkky.ee
X-WR-CALDESC:Events for EMKL
REFRESH-INTERVAL;VALUE=DURATION:PT1H
X-Robots-Tag:noindex
X-PUBLISHED-TTL:PT1H
BEGIN:VTIMEZONE
TZID:Europe/Tallinn
BEGIN:DAYLIGHT
TZOFFSETFROM:+0200
TZOFFSETTO:+0300
TZNAME:EEST
DTSTART:20230326T010000
END:DAYLIGHT
BEGIN:STANDARD
TZOFFSETFROM:+0300
TZOFFSETTO:+0200
TZNAME:EET
DTSTART:20231029T010000
END:STANDARD
END:VTIMEZONE
BEGIN:VEVENT
DTSTART;VALUE=DATE:20230903
DTEND;VALUE=DATE:20230904
DTSTAMP:20260424T010121
CREATED:20230608T114251Z
LAST-MODIFIED:20241211T121919Z
UID:6225-1693699200-1693785599@www.molkky.ee
SUMMARY:Eesti Meistrivõistlused Naiste üksikmäng 2023 / ROOSIDE TURNIIR
DESCRIPTION:NB!   Registreerimine pikendatud kuni 31.08.2023.a. õhtuni! \n03.09 Kadrioru Park (ülemise purskkaevu ala)Korraldaja Eesti Mölkky Klubide Liitlisainfo: Rooside Turniir
URL:https://www.molkky.ee/event/eesti-meistrivoistlused-naiste-uksikmang-2023-rooside-turniir/
CATEGORIES:Turniirid
END:VEVENT
END:VCALENDAR