BEGIN:VCALENDAR
VERSION:2.0
PRODID:-//EMKL - ECPv6.8.2.1//NONSGML v1.0//EN
CALSCALE:GREGORIAN
METHOD:PUBLISH
X-ORIGINAL-URL:https://www.molkky.ee
X-WR-CALDESC:Events for EMKL
REFRESH-INTERVAL;VALUE=DURATION:PT1H
X-Robots-Tag:noindex
X-PUBLISHED-TTL:PT1H
BEGIN:VTIMEZONE
TZID:Europe/Tallinn
BEGIN:DAYLIGHT
TZOFFSETFROM:+0200
TZOFFSETTO:+0300
TZNAME:EEST
DTSTART:20230326T010000
END:DAYLIGHT
BEGIN:STANDARD
TZOFFSETFROM:+0300
TZOFFSETTO:+0200
TZNAME:EET
DTSTART:20231029T010000
END:STANDARD
END:VTIMEZONE
BEGIN:VEVENT
DTSTART;VALUE=DATE:20230902
DTEND;VALUE=DATE:20230903
DTSTAMP:20260424T011127
CREATED:20230608T114225Z
LAST-MODIFIED:20241211T121919Z
UID:6223-1693612800-1693699199@www.molkky.ee
SUMMARY:Eesti Meistrivõistlused 2023 – Paarismäng
DESCRIPTION:02.09.2023 Eesti Meistrivõistlused 2023 (Eesti MV 2023) \n\n\n\n\n\n\nPaarismäng ( Duppel )\n\n\nTallinn\, Kadrioru Park (ülemise purskkaevu alal)\n\n\nInfo ja eelregistreerimine: info@molkky.ee kuni 31.08.2023 kella 22.00-ni.\n\n\n\nVõistluse algus: 02.09.2023 kell 11.00\, (NB! kõigil mängijatel palume kohal olla hiljemalt 10:45).\nEelregistreerimine kuni 31.08.2023 ja lõplik registreerimine kohapeal 15-30 minutit enne turniiri.\n\nA-finaal\, autasustatakse 3 paremat medalite ja karikatega\, \n4-8 koha saavutanud mängijaid autasustatakse karikatega. \nB-finaal\, 3 paremat autasustatakse karikatega. \nC-finaal\, 2 paremat autasustatakse karikatega. \nSnaiper- võitjat autasustatakse karikaga. \n\n\n\nOsavõtutasu 40 € tiim ( võimalus tasuda ka kohapeal).\nSwedbank a/a EE222200221054511230 (selgitus: võitkonna nimi – EMV Paaris 2023)\n\n\nKorraldaja: Eesti Mölkky Klubide Liit\n\n\nKontakt: Märt Niinemägi + 372 50 46 112\nE-Mail: info@molkky.ee\n\n\n\n\n\n\n\n\n\n\n\n\n\n\n\n\n\n\n\n\n\n\n 
URL:https://www.molkky.ee/event/eesti-meistrivoistlused-paarismang/
CATEGORIES:Turniirid
END:VEVENT
END:VCALENDAR