BEGIN:VCALENDAR
VERSION:2.0
PRODID:-//EMKL - ECPv6.8.2.1//NONSGML v1.0//EN
CALSCALE:GREGORIAN
METHOD:PUBLISH
X-WR-CALNAME:EMKL
X-ORIGINAL-URL:https://www.molkky.ee
X-WR-CALDESC:Events for EMKL
REFRESH-INTERVAL;VALUE=DURATION:PT1H
X-Robots-Tag:noindex
X-PUBLISHED-TTL:PT1H
BEGIN:VTIMEZONE
TZID:Europe/Tallinn
BEGIN:DAYLIGHT
TZOFFSETFROM:+0200
TZOFFSETTO:+0300
TZNAME:EEST
DTSTART:20230326T010000
END:DAYLIGHT
BEGIN:STANDARD
TZOFFSETFROM:+0300
TZOFFSETTO:+0200
TZNAME:EET
DTSTART:20231029T010000
END:STANDARD
END:VTIMEZONE
BEGIN:VEVENT
DTSTART;VALUE=DATE:20230805
DTEND;VALUE=DATE:20230807
DTSTAMP:20260424T023043
CREATED:20230608T114033Z
LAST-MODIFIED:20241211T121919Z
UID:6215-1691193600-1691366399@www.molkky.ee
SUMMARY:World Championships
DESCRIPTION:05 – 06.08 (Pihkalan Pesäpallistaadion\, Kenttäkatu 11\, Hyvinkää\, Finland)info: https://molkkywc2023.fi/
URL:https://www.molkky.ee/event/world-championships/
CATEGORIES:Turniirid
END:VEVENT
END:VCALENDAR