BEGIN:VCALENDAR
VERSION:2.0
PRODID:-//EMKL - ECPv6.8.2.1//NONSGML v1.0//EN
CALSCALE:GREGORIAN
METHOD:PUBLISH
X-ORIGINAL-URL:https://www.molkky.ee
X-WR-CALDESC:Events for EMKL
REFRESH-INTERVAL;VALUE=DURATION:PT1H
X-Robots-Tag:noindex
X-PUBLISHED-TTL:PT1H
BEGIN:VTIMEZONE
TZID:Europe/Tallinn
BEGIN:DAYLIGHT
TZOFFSETFROM:+0200
TZOFFSETTO:+0300
TZNAME:EEST
DTSTART:20230326T010000
END:DAYLIGHT
BEGIN:STANDARD
TZOFFSETFROM:+0300
TZOFFSETTO:+0200
TZNAME:EET
DTSTART:20231029T010000
END:STANDARD
END:VTIMEZONE
BEGIN:VEVENT
DTSTART;VALUE=DATE:20230722
DTEND;VALUE=DATE:20230723
DTSTAMP:20260424T035748
CREATED:20230608T113929Z
LAST-MODIFIED:20241211T121919Z
UID:6210-1689984000-1690070399@www.molkky.ee
SUMMARY:ASA Spa Hotell / Saaremaa Mölkky Liiga 3. etapp / Saaremaa Meistrivõistlused – Naiste– ja meeste Singel
DESCRIPTION:22.07 Kaubi küla mänguväljak\, Saaremaa;Meeste turniiri algus kell 10:30\, naistel 12:00Osavõtutasu 10 eurot mängijaRegistreerimine kuni 20.07 kell 20.00 ni tarvopihlas@gmail.com või FB SK Kaarmamessenger \nSaaremaa-Mölkky-Liiga_2023-JUHEND
URL:https://www.molkky.ee/event/asa-spa-hotell-saaremaa-molkky-liiga-3-etapp-saaremaa-meistrivoistlused-naiste-ja-meeste-singel/
CATEGORIES:Turniirid
ATTACH;FMTTYPE=image/png:https://molkky.ee/wp-content/uploads/2023/06/ASA_logod_rgb-01-768x396-1.png
END:VEVENT
END:VCALENDAR