BEGIN:VCALENDAR
VERSION:2.0
PRODID:-//EMKL - ECPv6.8.2.1//NONSGML v1.0//EN
CALSCALE:GREGORIAN
METHOD:PUBLISH
X-WR-CALNAME:EMKL
X-ORIGINAL-URL:https://www.molkky.ee
X-WR-CALDESC:Events for EMKL
REFRESH-INTERVAL;VALUE=DURATION:PT1H
X-Robots-Tag:noindex
X-PUBLISHED-TTL:PT1H
BEGIN:VTIMEZONE
TZID:Europe/Tallinn
BEGIN:DAYLIGHT
TZOFFSETFROM:+0200
TZOFFSETTO:+0300
TZNAME:EEST
DTSTART:20230326T010000
END:DAYLIGHT
BEGIN:STANDARD
TZOFFSETFROM:+0300
TZOFFSETTO:+0200
TZNAME:EET
DTSTART:20231029T010000
END:STANDARD
END:VTIMEZONE
BEGIN:VEVENT
DTSTART;VALUE=DATE:20230630
DTEND;VALUE=DATE:20230703
DTSTAMP:20260424T035227
CREATED:20230608T113615Z
LAST-MODIFIED:20241211T121919Z
UID:6201-1688083200-1688342399@www.molkky.ee
SUMMARY:European Championship
DESCRIPTION:30.06–02.07 (Ośrodek Hutnik) AKTYWNA WARSZAWAMarymoncka 42\, Warsaw\, Poland)Polska Federacja Mölkky\, Stowarzyszenie Mölkky Dwunastkainfo: https://www.facebook.com/events/1761793244184379 \nEESTI võistkind EST – MÖLKKY MM 2023 – III koht!
URL:https://www.molkky.ee/event/european-championship/
CATEGORIES:Turniirid
END:VEVENT
END:VCALENDAR