BEGIN:VCALENDAR
VERSION:2.0
PRODID:-//EMKL - ECPv6.8.2.1//NONSGML v1.0//EN
CALSCALE:GREGORIAN
METHOD:PUBLISH
X-ORIGINAL-URL:https://www.molkky.ee
X-WR-CALDESC:Events for EMKL
REFRESH-INTERVAL;VALUE=DURATION:PT1H
X-Robots-Tag:noindex
X-PUBLISHED-TTL:PT1H
BEGIN:VTIMEZONE
TZID:Europe/Tallinn
BEGIN:DAYLIGHT
TZOFFSETFROM:+0200
TZOFFSETTO:+0300
TZNAME:EEST
DTSTART:20230326T010000
END:DAYLIGHT
BEGIN:STANDARD
TZOFFSETFROM:+0300
TZOFFSETTO:+0200
TZNAME:EET
DTSTART:20231029T010000
END:STANDARD
END:VTIMEZONE
BEGIN:VEVENT
DTSTART;VALUE=DATE:20230617
DTEND;VALUE=DATE:20230618
DTSTAMP:20260424T051754
CREATED:20230608T113547Z
LAST-MODIFIED:20241211T121919Z
UID:6199-1686960000-1687046399@www.molkky.ee
SUMMARY:EESTI MEISTRIVÕISTLUSED 2023
DESCRIPTION:HaapsaluÜksikmäng (Single)\, osavõtu tasu 20 eurot.Info: tulekul
URL:https://www.molkky.ee/event/eesti-meistrivoistlused-2023/
CATEGORIES:Turniirid
END:VEVENT
END:VCALENDAR