BEGIN:VCALENDAR
VERSION:2.0
PRODID:-//EMKL - ECPv6.8.2.1//NONSGML v1.0//EN
CALSCALE:GREGORIAN
METHOD:PUBLISH
X-ORIGINAL-URL:https://www.molkky.ee
X-WR-CALDESC:Events for EMKL
REFRESH-INTERVAL;VALUE=DURATION:PT1H
X-Robots-Tag:noindex
X-PUBLISHED-TTL:PT1H
BEGIN:VTIMEZONE
TZID:Europe/Tallinn
BEGIN:DAYLIGHT
TZOFFSETFROM:+0200
TZOFFSETTO:+0300
TZNAME:EEST
DTSTART:20230326T010000
END:DAYLIGHT
BEGIN:STANDARD
TZOFFSETFROM:+0300
TZOFFSETTO:+0200
TZNAME:EET
DTSTART:20231029T010000
END:STANDARD
END:VTIMEZONE
BEGIN:VEVENT
DTSTART;VALUE=DATE:20230611
DTEND;VALUE=DATE:20230612
DTSTAMP:20260424T051906
CREATED:20230608T112933Z
LAST-MODIFIED:20241211T121920Z
UID:6177-1686441600-1686527999@www.molkky.ee
SUMMARY:Eesti Meistrivõitlused toamölkky`s\, paarismäng
DESCRIPTION:Aste Põhikooli võimla\, SaaremaaAlgus kell 10:30Osavõtutasu 25 eurot võistkondRegistreerimine kuni 09.03 kell 20.00 tarvopihlas@gmail.com või SK Kaarma Facebookmessenger.\n \n‌‌‌‌‌‌‌‌
URL:https://www.molkky.ee/event/eesti-meistrivoitlused-toamolkkys-paarismang/
CATEGORIES:Turniirid
END:VEVENT
BEGIN:VEVENT
DTSTART;VALUE=DATE:20230611
DTEND;VALUE=DATE:20230612
DTSTAMP:20260424T051906
CREATED:20230608T113521Z
LAST-MODIFIED:20241211T121920Z
UID:6196-1686441600-1686527999@www.molkky.ee
SUMMARY:Eesti Meistrivõistlused – Trio
DESCRIPTION:Kaubi küla mänguväljak\, SaaremaaAlgus kell 10.00 \nOsavõtutasu 45 eurot võistkondRegistreerimine kuni 08.06 kell 20.00 ni tarvopihlas@gmail.com või SK Kaarma Facebookmessenger
URL:https://www.molkky.ee/event/eesti-meistrivoistlused-trio/
CATEGORIES:Turniirid
END:VEVENT
END:VCALENDAR