BEGIN:VCALENDAR
VERSION:2.0
PRODID:-//EMKL - ECPv6.8.2.1//NONSGML v1.0//EN
CALSCALE:GREGORIAN
METHOD:PUBLISH
X-WR-CALNAME:EMKL
X-ORIGINAL-URL:https://www.molkky.ee
X-WR-CALDESC:Events for EMKL
REFRESH-INTERVAL;VALUE=DURATION:PT1H
X-Robots-Tag:noindex
X-PUBLISHED-TTL:PT1H
BEGIN:VTIMEZONE
TZID:Europe/Tallinn
BEGIN:DAYLIGHT
TZOFFSETFROM:+0200
TZOFFSETTO:+0300
TZNAME:EEST
DTSTART:20230326T010000
END:DAYLIGHT
BEGIN:STANDARD
TZOFFSETFROM:+0300
TZOFFSETTO:+0200
TZNAME:EET
DTSTART:20231029T010000
END:STANDARD
END:VTIMEZONE
BEGIN:VEVENT
DTSTART;VALUE=DATE:20230603
DTEND;VALUE=DATE:20230604
DTSTAMP:20260424T051542
CREATED:20230608T113335Z
LAST-MODIFIED:20241211T121920Z
UID:6191-1685750400-1685836799@www.molkky.ee
SUMMARY:TALLINN OPEN 2023
DESCRIPTION:TALLINN-OPEN-2023-osavotjad \nPaarismäng\n03.06.2023\, kell 11.00\nTallinn – Kadrioru Park (ülemise purskkaevu ala)\nRegistreerimine: kuni 29.05.2023 info@molkky.ee või tel.+372 5046112. \nOsavõtumaks – 40€ / võistkond\nVõistlussüsteem: alagrupid + karikad\n•     B-finaal\nAutasustamine: karikad \npangarekvisiidid:\nsegitusse Tallinn Open 2023 ja võistkonna nimi\nsaaja: MTÜ Eesti Mölkky Klubide Liit\nA/A nr EE222200221054511230\, SWIFT kood/BIC HABAEE2X \n_______________________________________________________________________________ \nTO 2022: \nPaarismäng\n28.05.2022\, kell 11.00\nKus: Tallinn – Kadrioru Park\nRegistreerimine: kuni 23.05.2022 info@molkky.ee või tel.+372 5046112. \nTalinn Open 2022 võitja on: \nEH – Timo Kemppi ja Jake Ropponen \n \nII koht – .  KAUBI-TIIM  – Tanel Raamat ja Jaanus Raamat \nIII koht – Gentlemanit – Antton Soini ja Matti Lehtonen \nIV koht – SÄINAS – Janar Kruuser ja Urmas Berkmann \n \nB-Finaal: \nI KOHT – Pika-1 – Siljar Pahapill / Aigar Paiste \nII KOHT – Young Boys – Indrek Varjun ja Aron Gregor Nurmik \nIII KOHT – HUNDID – Juhan Pukk ja Ivo Nurming \n \nTallinn Open SNAIPER : Aarne Kauber \n \nTÄNAME KÕIKI OSAVÕTJAID JA OOTAME TEID TAGASI JÄRGMISEL AASTAL! \nOsavõtumaks – 30€ / võistkond\nVõistlussüsteem: alagrupid + karikad\n•     B-finaal\nAutasustamine: karikad \npangarekvisiidid:\nsegitusse Tallinn Open 2022 ja võistkonna nimi\nsaaja: MTÜ Eesti Mölkky Klubide Liit\n17001838206\nIBAN EE981700017001838206 \nTallinna Open turniir sai avalöögi aaastal 2003\, kui esimene turniir peeti Kaarli tenniseväljakutel.\nOslejaid oli ca 20 võistkonda ja kaalukas osavõtt oli põhjanaabrite soomlaste poolt. Ka järgnevatel aastatel on võistlus leidnud üha laiemat toetajaskonda just Soome mölkky mängijate seas.\nTallinna Hipodroomil toimunud võistlused viidi aastast 2008 üle Kadrioru looduskaunisse parkki\, kus need toimuvad tänaseni.\nSiinkohal täname Kadrioru Pargi juhtkonda vastutulelikkuse ja abi eest võistluse korraldamisel.\n2013 aasta 10. Juubeliturniiril oli osalejaid juba üle 70 võistkonna ja võistlus on võtnud kindlalt Eesti suurima turniiri tiitli. Loodame ka edaspidi aktiivset osavõttu ja anname omalt poolt parima\, et võistlusele leiaksid tee ka kaugemate riikide võistleja
URL:https://www.molkky.ee/event/tallinn-open-2023/
CATEGORIES:Turniirid
ATTACH;FMTTYPE=image/jpeg:https://molkky.ee/wp-content/uploads/2023/05/TO-2023-FB-212x300-2.jpg
END:VEVENT
END:VCALENDAR