BEGIN:VCALENDAR
VERSION:2.0
PRODID:-//EMKL - ECPv6.8.2.1//NONSGML v1.0//EN
CALSCALE:GREGORIAN
METHOD:PUBLISH
X-WR-CALNAME:EMKL
X-ORIGINAL-URL:https://www.molkky.ee
X-WR-CALDESC:Events for EMKL
REFRESH-INTERVAL;VALUE=DURATION:PT1H
X-Robots-Tag:noindex
X-PUBLISHED-TTL:PT1H
BEGIN:VTIMEZONE
TZID:Europe/Tallinn
BEGIN:DAYLIGHT
TZOFFSETFROM:+0200
TZOFFSETTO:+0300
TZNAME:EEST
DTSTART:20240331T010000
END:DAYLIGHT
BEGIN:STANDARD
TZOFFSETFROM:+0300
TZOFFSETTO:+0200
TZNAME:EET
DTSTART:20241027T010000
END:STANDARD
END:VTIMEZONE
BEGIN:VEVENT
DTSTART;VALUE=DATE:20240601
DTEND;VALUE=DATE:20240602
DTSTAMP:20260423T083243
CREATED:20240130T205737Z
LAST-MODIFIED:20241211T121919Z
UID:6571-1717200000-1717286399@www.molkky.ee
SUMMARY:TALLINN OPEN 2024\, 01.06.2024
DESCRIPTION:Tallinn Open 2024.  01.06.2024\, kell 11:00 \nTallinn – Kadrioru Park (ülemise purskkaevu ala) \nPaarismäng\, osavõtu tasu 40 eurot \n \nRegistreerunud võistkonnad; \nTO 2024 registreeritud võistkonnad \nTallinn OPEN 2024 tulemused: \nTALLINN OPEN 2024\, RESULTS
URL:https://www.molkky.ee/event/tallinn-open-2024/
CATEGORIES:Turniirid
END:VEVENT
BEGIN:VEVENT
DTSTART;VALUE=DATE:20240602
DTEND;VALUE=DATE:20240603
DTSTAMP:20260423T083243
CREATED:20240531T065352Z
LAST-MODIFIED:20241211T121919Z
UID:6721-1717286400-1717372799@www.molkky.ee
SUMMARY:Läänemaa lahtised MV 02.06.2024.a.
DESCRIPTION:Läänemaa lahtised MV DUPPEL (paarismäng) toimuvad 02.06.2024                                          Võistluste algus kell 11.00 \nOsavõtutasu:  15.- EURi võistleja kohta \nVõistlused toimuvad Haapsalus Paralepa petangi ja mölkky väljakutel \nLäänemaa meistrivõistlustel lubatakse osa võtta kõikidel Läänemaal elavatel\, töötavatel ja õppivatel inimestel\, samuti Läänemaal registreeritud spordiklubide liikmetel ning ka külalistel. \nVõistlused korraldab SL Läänela ja PK Wicia \nVõistlused viiakse läbi rahvusvaheliste reeglite järgi \nRegistreerida saab hiljemalt 30.05.2024 kuni kell 21.00 e-postile tomsonmeelis3@gmail.com      Täiendav info:  Meelis Tomson 56312375 \n02.06.2024-Läänemaa-lahtised-MV-MÖLKKYŚ-duppel
URL:https://www.molkky.ee/event/laanemaa-lahtised-mv-02-06-2024-a/
CATEGORIES:Turniirid
END:VEVENT
BEGIN:VEVENT
DTSTART;VALUE=DATE:20240608
DTEND;VALUE=DATE:20240609
DTSTAMP:20260423T083243
CREATED:20240115T112457Z
LAST-MODIFIED:20241211T121919Z
UID:6542-1717804800-1717891199@www.molkky.ee
SUMMARY:SM-DUPPELI 8.6.2024
DESCRIPTION:LAHTI \nSoome meistrivõistlused paarismängus. \nosavõtutasu 50 eurot \nRegistreerimine kuni 21.05.2024.a. \nInfo:https://www.musamolkky.fi/index.php/sm-kisat \nLisainfo ja registreerimine : https://www.molkkyliitto.fi/kilpailut/molkyn-sm-duppeli-2024/ \n 
URL:https://www.molkky.ee/event/https-www-musamolkky-fi-index-php-sm-kisat/
CATEGORIES:Turniirid
END:VEVENT
BEGIN:VEVENT
DTSTART;VALUE=DATE:20240609
DTEND;VALUE=DATE:20240610
DTSTAMP:20260423T083243
CREATED:20240115T112749Z
LAST-MODIFIED:20241211T121919Z
UID:6544-1717891200-1717977599@www.molkky.ee
SUMMARY:SM-NELURI 9.6.2024
DESCRIPTION:LAHTI \nSoome Meistrivõistlused Nelikud \nOsavõtutasu 100 eurot võistkond \nMängukoht: https://www.google.fi/maps/place/Evenemangsarenan/@60.969884\,25.6508487\,392m/data=!3m1!1e3!4m6!3m5!1s0x468e2937d9d55d03:0x3a089828f8c145c9!8m2!3d60.9705053!4d25.6504111!16s%2Fg%2F11j4dpj_w8?entry=ttu \nKorraldaja : MK Lahti \nRegistreerimine hiljemalt 21.05.2024.a. \nInfo: https://www.musamolkky.fi/index.php/sm-kisat \nInfo ja registreerimine: https://www.molkkyliitto.fi/kilpailut/molkyn-sm-neluri-2024/
URL:https://www.molkky.ee/event/https-www-molkkyliitto-fi-kilpailut-molkyn-sm-neluri-2024/
CATEGORIES:Turniirid
END:VEVENT
BEGIN:VEVENT
DTSTART;VALUE=DATE:20240615
DTEND;VALUE=DATE:20240616
DTSTAMP:20260423T083243
CREATED:20240221T153733Z
LAST-MODIFIED:20241211T121919Z
UID:6594-1718409600-1718495999@www.molkky.ee
SUMMARY:ASA spa Hotell/Saaremaa Mölkky Liiga 2024 2 etapp/ Saare maakonna lahtised meistrivõistlused15.06.2024
DESCRIPTION:ASA spa Hotell/Saaremaa Mölkky Liiga 2024 2 etapp/ Saare maakonna lahtised meistrivõistlused \nKaubi küla\, Saaremaa vald\, laius 58°26`N\, pikkus 22°32`E\nTrio\n\nRegistreerimine kuni 13.juuni kell 20:00 ni sk kaarma FB messenger või tarvopihlas@gmail.com\nAlgus kell 10:30\nKohaloleku kinnitamine kuni 10:10\, loosimine 10:15\n\nosavõtutasu 10 eurot\, 16 ja nooremad tasuta\n\nSaaremaa Mölkky Liiga_2024 juhend_Est\nSaaremaa Mölkky Liiga_2024 juhend_Fin (1)(1)
URL:https://www.molkky.ee/event/saaremaa-liiga-ii-etapp-triod-15-06-2024/
CATEGORIES:Turniirid
END:VEVENT
BEGIN:VEVENT
DTSTART;VALUE=DATE:20240616
DTEND;VALUE=DATE:20240617
DTSTAMP:20260423T083243
CREATED:20240221T153840Z
LAST-MODIFIED:20241211T121919Z
UID:6596-1718496000-1718582399@www.molkky.ee
SUMMARY:Saaremaa Open 2024\, Paarismäng 16.06.2024.
DESCRIPTION:Saaremaa Open 2024\n\n\nKaubi küla\, Saaremaa vald\, laius 58°26`N\, pikkus 22°32`E\nDuppel ehk paarismäng\n\nRegistreerimine kuni 13.juuni kell 20:00 ni sk kaarma FB messenger või tarvopihlas@gmail.com\nAlgus kell 10:00\nKohaloleku kinnitamine kuni 9:40\, loosimine 9:45\n\nosavõtutasu 10 eurot\, 16 ja nooremad tasuta
URL:https://www.molkky.ee/event/saaremaa-open-2024-paarismang-16-06-2024/
CATEGORIES:Turniirid
END:VEVENT
BEGIN:VEVENT
DTSTART;VALUE=DATE:20240622
DTEND;VALUE=DATE:20240623
DTSTAMP:20260423T083243
CREATED:20240531T070042Z
LAST-MODIFIED:20241211T121919Z
UID:6725-1719014400-1719100799@www.molkky.ee
SUMMARY:Läänemaa lahtised MV MÖLKKYS- Ükiskmäng. 2024  22.06.2024.
DESCRIPTION:Läänemaa lahtised MV SINGEL (üksikmäng) toimuvad 06.2024                                          Võistluste algus kell 10.00 \nOsavõtutasu:  15.- EURi võistleja kohta \nVõistlused korraldab SL Läänela ja PK Wicia \nLäänemaa meistrivõistlustel lubatakse osa võtta kõikidel Läänemaal elavatel\, töötavatel ja õppivatel inimestel\, samuti Läänemaal registreeritud spordiklubide liikmetel ning ka külalistel. \nVõistlused toimuvad Haapsalus Paralepa petangi ja mölkky väljakutel \nRegistreerumine:  Registreerida saab hiljemalt 19.06.2024 kuni kell 21.00 e-postile tomsonmeelis3@gmail.com \nTäiendav info:  Meelis Tomson 56312375 \n22.06.2024-Läänemaa-lahtised-MV-MÖLKKYŚ-singel
URL:https://www.molkky.ee/event/laanemaa-lahtised-mv-molkkys-ukiskmang-2024-22-06-2024/
CATEGORIES:Turniirid
END:VEVENT
BEGIN:VEVENT
DTSTART;VALUE=DATE:20240629
DTEND;VALUE=DATE:20240630
DTSTAMP:20260423T083243
CREATED:20240221T154010Z
LAST-MODIFIED:20241211T121919Z
UID:6598-1719619200-1719705599@www.molkky.ee
SUMMARY:ASA spa Hotell/Saaremaa Mölkky Liiga 2024 3 etapp/ Saare maakonna lahtised meistrivõistlused 29.06.2024.
DESCRIPTION: ASA spa Hotell/Saaremaa Mölkky Liiga 2024 3 etapp/ Saare maakonna lahtised meistrivõistlused\n\nKaubi küla\, Saaremaa vald\, laius 58°26`N\, pikkus 22°32`E\nNaiste ja meeste üksikmäng ehk singel ( eraldi turniirid )\n\nRegistreerimine kuni 27.juuni kell 20:00 ni sk kaarma FB messenger või tarvopihlas@gmail.com\nAlgus kell 10:30\nKohaloleku kinnitamine kuni 10:10\, loosimine 10:15\n\nosavõtutasu 10 eurot\, 16 ja nooremad tasuta\n\nSaaremaa Mölkky Liiga_2024 juhend_Est\nSaaremaa Mölkky Liiga_2024 juhend_Fin (1)(1)
URL:https://www.molkky.ee/event/saaremaa-liiga-iii-etapp-uksikmang-29-06-2024/
CATEGORIES:Turniirid
END:VEVENT
BEGIN:VEVENT
DTSTART;VALUE=DATE:20240630
DTEND;VALUE=DATE:20240701
DTSTAMP:20260423T083243
CREATED:20240210T115056Z
LAST-MODIFIED:20241211T121919Z
UID:6577-1719705600-1719791999@www.molkky.ee
SUMMARY:Eesti Meistrivõistlused 2024\, üksikmäng 30.06.2024.a.
DESCRIPTION:30.06.2024.a. \nToimumiskoht:   Haapsalu\, Paralepa petankiväljakud\, Ranna tee 2 (Paralepa rand). \nToimumispäev:   Pühapäev\, 30.06.2024 \nMänguviis:   SINGEL (üksikmäng) \nAlgus:   kell 10.30 \nOsavõtutasu:   20 €  (tasumine sularahas kohapeal) \nKorraldaja:   EMKL ja PK  WICIA \nRegistreerimine:   kuni 27.06.2024 kuni 18.00 \naadressil:   tarvopihlas@gmail.com tel. +372 5201611 \nSüsteem:   Täpsem info selgub peale registreerimist \nAuhinnad:   Eesti MV medalid \nLisainfo:   Sööki saab osta kohapeal \nRegistreerunud: EMV 2024 single \n  \nEMV 2024 Singel tulemused: Eesti Meistervõistlused singlis_2024 \n  \nEMV 2024 A-finaal: \nI koht ARGO VÕRK (Tallinn) \nII koht MEELIS KASK (Saaremaa) \nIII koht HEIKKI JÕGISALU (Haapsalu) \nIV koht EGERT KINGISSEPP (Haapsalu) \n \nEMV B-finaal: \nI koht VAIKO KIVI (Hiiumaa) \nII koht Jukka Reinamo (Soome) \nIII koht Hellis Altosaar (Tallinn) \n \nC-finaal: \nI koht: MARGIT LEPP (Saaremaa) \nII koht: Helle Siidla (Haapsalu) \nIII koht: Märt Põldve (Haapsalu)
URL:https://www.molkky.ee/event/eesti-meistrivoistlused-2024-uksikmang/
CATEGORIES:Turniirid
END:VEVENT
END:VCALENDAR