BEGIN:VCALENDAR
VERSION:2.0
PRODID:-//EMKL - ECPv6.8.2.1//NONSGML v1.0//EN
CALSCALE:GREGORIAN
METHOD:PUBLISH
X-WR-CALNAME:EMKL
X-ORIGINAL-URL:https://www.molkky.ee
X-WR-CALDESC:Events for EMKL
REFRESH-INTERVAL;VALUE=DURATION:PT1H
X-Robots-Tag:noindex
X-PUBLISHED-TTL:PT1H
BEGIN:VTIMEZONE
TZID:Europe/Tallinn
BEGIN:DAYLIGHT
TZOFFSETFROM:+0200
TZOFFSETTO:+0300
TZNAME:EEST
DTSTART:20230326T010000
END:DAYLIGHT
BEGIN:STANDARD
TZOFFSETFROM:+0300
TZOFFSETTO:+0200
TZNAME:EET
DTSTART:20231029T010000
END:STANDARD
END:VTIMEZONE
BEGIN:VEVENT
DTSTART;VALUE=DATE:20230415
DTEND;VALUE=DATE:20230416
DTSTAMP:20260424T063106
CREATED:20230608T113019Z
LAST-MODIFIED:20241211T121920Z
UID:6179-1681516800-1681603199@www.molkky.ee
SUMMARY:Tallinna Meistrivõistlused paarismängus 2023
DESCRIPTION:Paarismäng ( Duppel ) \nTallinn\, Kadrioru park  (Kontserdi mänguväljak-ülemise\npurskkaevu alal). \nAlgus: kell 11.00\,  (NB! kõigil mängijatel palume kohal olla\nhiljemalt kell 10:30)\nEelregistreerimine kuni 13.04.2023 ja lõplik registreerimine kohapeal 30\nminutit enne turniiri (ehk kohalolu kinnitamine). \nOsavõtutasu 30€ (tasumine kohapeal) \nKorraldaja:  Eesti Mölkky Klubide Liit \nKontakt: Aarne Kauber\, gsm  +372 5087743
URL:https://www.molkky.ee/event/tallinna-meistrivoistlused-paarismangus-2023/
CATEGORIES:Turniirid
END:VEVENT
BEGIN:VEVENT
DTSTART;VALUE=DATE:20230422
DTEND;VALUE=DATE:20230423
DTSTAMP:20260424T063106
CREATED:20230608T113044Z
LAST-MODIFIED:20241211T121920Z
UID:6181-1682121600-1682207999@www.molkky.ee
SUMMARY:OTSA meistrivõistlused 2023 paarismäng (OTSA MV 2023).  Paarismäng ( Duppel )
DESCRIPTION:NB! Kõik visked tehakse mängus ainult otsavisetega ! \nTallinn\, Kadrioru park  (Kontserdi mänguväljak-ülemise\npurskkaevu alal). \nAlgus: kell 11.00\,  (NB! kõigil mängijatel palume kohal olla\nhiljemalt kell 10:30)\nEelregistreerimine kuni 20.04.2023 ja lõplik registreerimine kohapeal 30\nminutit enne turniiri (ehk kohalolu kinnitamine). \nOsavõtutasu 30 € (tasumine kohapeal) \nKorraldaja:  Eesti Mölkky Klubide Liit \nKontakt: Aarne Kauber\, gsm  +372 5087743
URL:https://www.molkky.ee/event/otsa-meistrivoistlused-2023-paarismang-otsa-mv-2023-paarismang-duppel/
CATEGORIES:Turniirid
END:VEVENT
END:VCALENDAR